BEGIN:VCALENDAR
VERSION:2.0
PRODID:-//eventon.com NONSGML v1.0//EN
CALSCALE:GREGORIAN
METHOD:PUBLISH
BEGIN:VEVENT
UID:69eb41728fe19
DTSTAMP:20260424T100954Z
DTSTART:20260618T160000Z
DTEND:20260618T170000Z
LOCATION:Grote zaal Parkgebouw Oosterhofweg 49\,  7461 BC\,  RIJSSEN
SUMMARY:AMV-presentatie
DESCRIPTION:AMV-presentatie\nhttps://muziekschool-rijssen.nl/uitvoering/amv
 -presentatie-9/
URL:https://muziekschool-rijssen.nl/uitvoering/amv-presentatie-9/
END:VEVENT
END:VCALENDAR