BEGIN:VCALENDAR
VERSION:2.0
PRODID:-//eventon.com NONSGML v1.0//EN
CALSCALE:GREGORIAN
METHOD:PUBLISH
BEGIN:VEVENT
UID:69eb40d1a6eef
DTSTAMP:20260424T100713Z
DTSTART:20260618T193000Z
DTEND:20260618T210000Z
LOCATION:Grote zaal Parkgebouw Oosterhofweg 49\,  7461 BC\,  RIJSSEN
SUMMARY:Grote uitvoering
DESCRIPTION:Grote uitvoering\nhttps://muziekschool-rijssen.nl/uitvoering/gr
 ote-uitvoering-8/
URL:https://muziekschool-rijssen.nl/uitvoering/grote-uitvoering-8/
END:VEVENT
END:VCALENDAR