BEGIN:VCALENDAR
VERSION:2.0
PRODID:-//eventon.com NONSGML v1.0//EN
CALSCALE:GREGORIAN
METHOD:PUBLISH
BEGIN:VEVENT
UID:69eb626ea8cd7
DTSTAMP:20260424T123038Z
DTSTART:20260626T193000Z
DTEND:20260626T204500Z
LOCATION:
SUMMARY:Concert Schildkerk
DESCRIPTION:Orgelleerlingen\,  andere instrumenten en zang\nhttps://muzieks
 chool-rijssen.nl/uitvoering/concert-schildkerk/
URL:https://muziekschool-rijssen.nl/uitvoering/concert-schildkerk/
END:VEVENT
END:VCALENDAR